Package: netprioR Version: 1.32.0 Command: /home/biocbuild/R/R/bin/R CMD check --install=check:netprioR.install-out.txt --library=/home/biocbuild/R/R/site-library --no-vignettes --timings netprioR_1.32.0.tar.gz StartedAt: 2025-01-31 08:39:51 -0000 (Fri, 31 Jan 2025) EndedAt: 2025-01-31 08:41:20 -0000 (Fri, 31 Jan 2025) EllapsedTime: 88.1 seconds RetCode: 0 Status: OK CheckDir: netprioR.Rcheck Warnings: 0