Package: netprioR Version: 1.32.0 Command: /home/biocbuild/R/R/bin/R CMD build --keep-empty-dirs --no-resave-data netprioR StartedAt: 2025-01-31 01:21:42 -0000 (Fri, 31 Jan 2025) EndedAt: 2025-01-31 01:22:43 -0000 (Fri, 31 Jan 2025) EllapsedTime: 61.0 seconds RetCode: 0 Status: OK PackageFile: netprioR_1.32.0.tar.gz PackageFileSize: 474.8 KiB