Package: netprioR Version: 1.32.0 Command: F:\biocbuild\bbs-3.20-bioc\R\bin\R.exe CMD check --no-multiarch --install=check:netprioR.install-out.txt --library=F:\biocbuild\bbs-3.20-bioc\R\library --no-vignettes --timings netprioR_1.32.0.tar.gz StartedAt: 2025-04-01 04:04:50 -0400 (Tue, 01 Apr 2025) EndedAt: 2025-04-01 04:06:25 -0400 (Tue, 01 Apr 2025) EllapsedTime: 94.7 seconds RetCode: 0 Status: OK CheckDir: netprioR.Rcheck Warnings: 0