Package: netprioR Version: 1.32.0 Command: chmod a+r netprioR -R && F:\biocbuild\bbs-3.20-bioc\R\bin\R.exe CMD build --keep-empty-dirs --no-resave-data netprioR StartedAt: 2025-01-27 20:38:10 -0500 (Mon, 27 Jan 2025) EndedAt: 2025-01-27 20:39:23 -0500 (Mon, 27 Jan 2025) EllapsedTime: 73.5 seconds RetCode: 0 Status: OK PackageFile: netprioR_1.32.0.tar.gz PackageFileSize: 419.6 KiB