Package: netprioR Version: 1.32.0 Command: /Library/Frameworks/R.framework/Resources/bin/R CMD check --install=check:netprioR.install-out.txt --library=/Library/Frameworks/R.framework/Resources/library --no-vignettes --timings netprioR_1.32.0.tar.gz StartedAt: 2025-02-12 03:18:33 -0500 (Wed, 12 Feb 2025) EndedAt: 2025-02-12 03:20:01 -0500 (Wed, 12 Feb 2025) EllapsedTime: 88.2 seconds RetCode: 0 Status: OK CheckDir: netprioR.Rcheck Warnings: 0