Package: netprioR Version: 1.32.0 Command: rm -rf netprioR.buildbin-libdir && mkdir netprioR.buildbin-libdir && /Users/biocbuild/BBS/utils/build-universal.sh netprioR_1.32.0.tar.gz /Library/Frameworks/R.framework/Resources/bin/R netprioR.buildbin-libdir StartedAt: 2025-02-12 16:10:28 -0500 (Wed, 12 Feb 2025) EndedAt: 2025-02-12 16:10:38 -0500 (Wed, 12 Feb 2025) EllapsedTime: 10.1 seconds RetCode: 0 Status: OK PackageFile: netprioR_1.32.0.tgz PackageFileSize: 721.3 KiB