Package: nethet Version: 1.38.0 Command: /home/biocbuild/bbs-3.20-bioc/R/bin/R CMD check --install=check:nethet.install-out.txt --library=/home/biocbuild/bbs-3.20-bioc/R/site-library --timings nethet_1.38.0.tar.gz StartedAt: 2025-04-01 00:26:40 -0400 (Tue, 01 Apr 2025) EndedAt: 2025-04-01 00:32:47 -0400 (Tue, 01 Apr 2025) EllapsedTime: 366.3 seconds RetCode: 0 Status: WARNINGS CheckDir: nethet.Rcheck Warnings: 1