Package: nethet Version: 1.38.0 Command: /Library/Frameworks/R.framework/Resources/bin/R CMD build --keep-empty-dirs --no-resave-data nethet StartedAt: 2025-01-27 21:04:29 -0500 (Mon, 27 Jan 2025) EndedAt: 2025-01-27 21:11:11 -0500 (Mon, 27 Jan 2025) EllapsedTime: 402.2 seconds RetCode: 0 Status: OK PackageFile: nethet_1.38.0.tar.gz PackageFileSize: 704.7 KiB