Package: netboost Version: 2.14.0 Command: /home/biocbuild/R/R/bin/R CMD INSTALL netboost StartedAt: 2025-01-27 21:45:10 -0000 (Mon, 27 Jan 2025) EndedAt: 2025-01-27 21:46:11 -0000 (Mon, 27 Jan 2025) EllapsedTime: 61.3 seconds RetCode: 0 Status: OK