Package: netboost Version: 2.14.0 Command: /home/biocbuild/bbs-3.20-bioc/R/bin/R CMD INSTALL netboost StartedAt: 2025-01-27 16:34:30 -0500 (Mon, 27 Jan 2025) EndedAt: 2025-01-27 16:35:20 -0500 (Mon, 27 Jan 2025) EllapsedTime: 49.7 seconds RetCode: 0 Status: OK