Package: netboost Version: 2.14.0 Command: /home/biocbuild/bbs-3.20-bioc/R/bin/R CMD check --install=check:netboost.install-out.txt --library=/home/biocbuild/bbs-3.20-bioc/R/site-library --timings netboost_2.14.0.tar.gz StartedAt: 2025-01-28 01:24:36 -0500 (Tue, 28 Jan 2025) EndedAt: 2025-01-28 01:27:37 -0500 (Tue, 28 Jan 2025) EllapsedTime: 181.1 seconds RetCode: 0 Status: WARNINGS CheckDir: netboost.Rcheck Warnings: 1