Package: netboost Version: 2.14.0 Command: /Library/Frameworks/R.framework/Resources/bin/R CMD check --install=check:netboost.install-out.txt --library=/Library/Frameworks/R.framework/Resources/library --no-vignettes --timings netboost_2.14.0.tar.gz StartedAt: 2025-01-28 07:23:44 -0500 (Tue, 28 Jan 2025) EndedAt: 2025-01-28 07:31:11 -0500 (Tue, 28 Jan 2025) EllapsedTime: 447.4 seconds RetCode: 0 Status: WARNINGS CheckDir: netboost.Rcheck Warnings: 1