Package: netboost Version: 2.14.0 Command: /Library/Frameworks/R.framework/Resources/bin/R CMD build --keep-empty-dirs --no-resave-data netboost StartedAt: 2025-01-27 21:04:23 -0500 (Mon, 27 Jan 2025) EndedAt: 2025-01-27 21:07:16 -0500 (Mon, 27 Jan 2025) EllapsedTime: 172.5 seconds RetCode: 0 Status: OK PackageFile: netboost_2.14.0.tar.gz PackageFileSize: 1.132 MiB