Package: netboost Version: 2.14.0 Command: /Library/Frameworks/R.framework/Resources/bin/R CMD build --keep-empty-dirs --no-resave-data netboost StartedAt: 2024-11-08 18:22:13 -0500 (Fri, 08 Nov 2024) EndedAt: 2024-11-08 18:22:35 -0500 (Fri, 08 Nov 2024) EllapsedTime: 22.2 seconds RetCode: 0 Status: OK PackageFile: netboost_2.14.0.tar.gz PackageFileSize: 1.132 MiB