Package: netboost Version: 2.14.0 Command: /Library/Frameworks/R.framework/Resources/bin/R CMD INSTALL netboost StartedAt: 2025-01-27 17:13:14 -0500 (Mon, 27 Jan 2025) EndedAt: 2025-01-27 17:14:05 -0500 (Mon, 27 Jan 2025) EllapsedTime: 51.9 seconds RetCode: 0 Status: OK