Package: netboost Version: 2.14.0 Command: /Library/Frameworks/R.framework/Resources/bin/R CMD build --keep-empty-dirs --no-resave-data netboost StartedAt: 2025-02-04 04:39:42 -0500 (Tue, 04 Feb 2025) EndedAt: 2025-02-04 04:40:54 -0500 (Tue, 04 Feb 2025) EllapsedTime: 72.2 seconds RetCode: 0 Status: OK PackageFile: netboost_2.14.0.tar.gz PackageFileSize: 1.132 MiB