Package: netZooR Version: 1.10.0 Command: /home/biocbuild/bbs-3.20-bioc/R/bin/R CMD INSTALL netZooR StartedAt: 2025-03-31 15:58:23 -0400 (Mon, 31 Mar 2025) EndedAt: 2025-03-31 15:59:23 -0400 (Mon, 31 Mar 2025) EllapsedTime: 59.3 seconds RetCode: 0 Status: OK