Package: netSmooth Version: 1.26.0 Command: /home/biocbuild/R/R/bin/R CMD INSTALL netSmooth StartedAt: 2025-03-31 21:05:47 -0000 (Mon, 31 Mar 2025) EndedAt: 2025-03-31 21:06:47 -0000 (Mon, 31 Mar 2025) EllapsedTime: 59.6 seconds RetCode: 0 Status: OK