Package: netSmooth Version: 1.26.0 Command: /home/biocbuild/bbs-3.20-bioc/R/bin/R CMD INSTALL netSmooth StartedAt: 2025-03-31 15:54:53 -0400 (Mon, 31 Mar 2025) EndedAt: 2025-03-31 15:55:36 -0400 (Mon, 31 Mar 2025) EllapsedTime: 42.8 seconds RetCode: 0 Status: OK