Package: netSmooth Version: 1.26.0 Command: /home/biocbuild/bbs-3.20-bioc/R/bin/R CMD build --keep-empty-dirs --no-resave-data --md5 netSmooth StartedAt: 2025-03-31 18:18:30 -0400 (Mon, 31 Mar 2025) EndedAt: 2025-03-31 18:21:05 -0400 (Mon, 31 Mar 2025) EllapsedTime: 155.3 seconds RetCode: 0 Status: OK PackageFile: netSmooth_1.26.0.tar.gz PackageFileSize: 3.02 MiB