Package: netOmics Version: 1.12.0 Command: /home/biocbuild/R/R/bin/R CMD INSTALL netOmics StartedAt: 2025-01-30 21:02:33 -0000 (Thu, 30 Jan 2025) EndedAt: 2025-01-30 21:02:55 -0000 (Thu, 30 Jan 2025) EllapsedTime: 22.7 seconds RetCode: 0 Status: OK