Package: netOmics Version: 1.12.0 Command: /home/biocbuild/R/R/bin/R CMD build --keep-empty-dirs --no-resave-data netOmics StartedAt: 2025-02-04 01:24:37 -0000 (Tue, 04 Feb 2025) EndedAt: 2025-02-04 01:25:11 -0000 (Tue, 04 Feb 2025) EllapsedTime: 34.0 seconds RetCode: 1 Status: ERROR PackageFile: None PackageFileSize: NA