Package: netOmics Version: 1.12.0 Command: /home/biocbuild/bbs-3.20-bioc/R/bin/R CMD INSTALL netOmics StartedAt: 2025-03-31 15:55:30 -0400 (Mon, 31 Mar 2025) EndedAt: 2025-03-31 15:55:47 -0400 (Mon, 31 Mar 2025) EllapsedTime: 17.4 seconds RetCode: 0 Status: OK