Package: netDx Version: 1.18.0 Command: /home/biocbuild/bbs-3.20-bioc/R/bin/R CMD build --keep-empty-dirs --no-resave-data netDx StartedAt: 2024-11-19 20:29:33 -0500 (Tue, 19 Nov 2024) EndedAt: 2024-11-19 20:32:53 -0500 (Tue, 19 Nov 2024) EllapsedTime: 200.3 seconds RetCode: 1 Status: ERROR PackageFile: None PackageFileSize: NA