############################################################################## ############################################################################## ### ### Running command: ### ### /home/biocbuild/R/R/bin/R CMD check --install=check:netDx.install-out.txt --library=/home/biocbuild/R/R/site-library --no-vignettes --timings netDx_1.18.0.tar.gz ### ############################################################################## ############################################################################## * using log directory ‘/home/biocbuild/bbs-3.20-bioc/meat/netDx.Rcheck’ * using R version 4.4.2 (2024-10-31) * using platform: aarch64-unknown-linux-gnu * R was compiled by aarch64-unknown-linux-gnu-gcc (GCC) 14.2.0 GNU Fortran (GCC) 12.3.1 (openEuler 12.3.1-36.oe2403) * running under: openEuler 24.03 (LTS) * using session charset: UTF-8 * using option ‘--no-vignettes’ * checking for file ‘netDx/DESCRIPTION’ ... OK * this is package ‘netDx’ version ‘1.18.0’ * package encoding: UTF-8 * checking package namespace information ... OK * checking package dependencies ... OK * checking if this is a source package ... OK * checking if there is a namespace ... OK * checking for hidden files and directories ... NOTE Found the following hidden files and directories: .BBSoptions These were most likely included in error. See section ‘Package structure’ in the ‘Writing R Extensions’ manual. * checking for portable file names ... OK * checking for sufficient/correct file permissions ... OK * checking whether package ‘netDx’ can be installed ... OK * checking installed package size ... NOTE installed size is 7.4Mb sub-directories of 1Mb or more: extdata 6.0Mb * checking package directory ... OK * checking ‘build’ directory ... OK * checking DESCRIPTION meta-information ... NOTE Malformed Description field: should contain one or more complete sentences. * checking top-level files ... OK * checking for left-over files ... OK * checking index information ... OK * checking package subdirectories ... NOTE Found the following CITATION file in a non-standard place: CITATION.cff Most likely ‘inst/CITATION’ should be used instead. * checking code files for non-ASCII characters ... OK * checking R files for syntax errors ... OK * checking whether the package can be loaded ... OK * checking whether the package can be loaded with stated dependencies ... OK * checking whether the package can be unloaded cleanly ... OK * checking whether the namespace can be loaded with stated dependencies ... OK * checking whether the namespace can be unloaded cleanly ... OK * checking loading without being on the library search path ... OK * checking whether startup messages can be suppressed ... OK * checking dependencies in R code ... OK * checking S3 generic/method consistency ... OK * checking replacement functions ... OK * checking foreign function calls ... OK * checking R code for possible problems ... OK * checking Rd files ... NOTE checkRd: (-1) getEnr.Rd:53: Lost braces; missing escapes or markup? 53 | {(+,-),(-,+),(-,-)} interactions. | ^ checkRd: (-1) predict.Rd:27: Lost braces; missing escapes or markup? 27 | e.g. keys could include {'clinical','rna','methylation'}, and values within 'rna' could include pathway names {'cell cycle', 'DNA repair'}, etc., | ^ checkRd: (-1) predict.Rd:27: Lost braces; missing escapes or markup? 27 | e.g. keys could include {'clinical','rna','methylation'}, and values within 'rna' could include pathway names {'cell cycle', 'DNA repair'}, etc., | ^ * checking Rd metadata ... OK * checking Rd cross-references ... OK * checking for missing documentation entries ... OK * checking for code/documentation mismatches ... OK * checking Rd \usage sections ... OK * checking Rd contents ... OK * checking for unstated dependencies in examples ... OK * checking contents of ‘data’ directory ... OK * checking data for non-ASCII characters ... OK * checking data for ASCII and uncompressed saves ... OK * checking files in ‘vignettes’ ... OK * checking examples ... OK Examples with CPU (user + system) or elapsed time > 5s user system elapsed createPSN_MultiData 22.914 1.178 60.800 buildPredictor 22.526 0.950 46.922 RR_featureTally 12.628 0.227 14.159 sim.pearscale 10.281 0.015 10.971 smoothMutations_LabelProp 8.390 0.374 32.481 runFeatureSelection 6.981 0.352 8.539 getSimilarity 7.329 0.004 7.706 compileFeatures 5.815 0.348 31.834 getPatientPredictions 5.975 0.072 6.274 thresholdSmoothedMutations 5.166 0.064 31.672 plotPerf 5.074 0.020 5.968 runQuery 2.840 0.194 6.208 enrichLabelNets 1.432 0.079 71.256 getEnr 0.655 0.147 13.290 countIntType_batch 0.078 0.022 11.847 makePSN_NamedMatrix 0.086 0.012 11.574 * checking for unstated dependencies in ‘tests’ ... OK * checking tests ... Running ‘testthat.R’ OK * checking for unstated dependencies in vignettes ... OK * checking package vignettes ... OK * checking running R code from vignettes ... SKIPPED * checking re-building of vignette outputs ... SKIPPED * checking PDF version of manual ... OK * DONE Status: 5 NOTEs See ‘/home/biocbuild/bbs-3.20-bioc/meat/netDx.Rcheck/00check.log’ for details.