Package: netDx Version: 1.18.0 Command: /home/biocbuild/R/R/bin/R CMD build --keep-empty-dirs --no-resave-data netDx StartedAt: 2024-11-20 02:34:09 -0000 (Wed, 20 Nov 2024) EndedAt: 2024-11-20 02:52:41 -0000 (Wed, 20 Nov 2024) EllapsedTime: 1112.7 seconds RetCode: 0 Status: OK PackageFile: netDx_1.18.0.tar.gz PackageFileSize: 3.333 MiB