Package: netDx Version: 1.18.0 Command: /Library/Frameworks/R.framework/Resources/bin/R CMD build --keep-empty-dirs --no-resave-data netDx StartedAt: 2025-04-01 04:18:04 -0400 (Tue, 01 Apr 2025) EndedAt: 2025-04-01 04:21:45 -0400 (Tue, 01 Apr 2025) EllapsedTime: 220.9 seconds RetCode: 1 Status: ERROR PackageFile: None PackageFileSize: NA