Package: nempi Version: 1.14.0 Command: /Library/Frameworks/R.framework/Resources/bin/R CMD INSTALL nempi StartedAt: 2025-02-03 16:42:17 -0500 (Mon, 03 Feb 2025) EndedAt: 2025-02-03 16:42:53 -0500 (Mon, 03 Feb 2025) EllapsedTime: 35.7 seconds RetCode: 0 Status: OK