Package: nempi Version: 1.14.0 Command: /Library/Frameworks/R.framework/Resources/bin/R CMD check --install=check:nempi.install-out.txt --library=/Library/Frameworks/R.framework/Resources/library --no-vignettes --timings nempi_1.14.0.tar.gz StartedAt: 2025-04-02 02:43:19 -0400 (Wed, 02 Apr 2025) EndedAt: 2025-04-02 02:45:49 -0400 (Wed, 02 Apr 2025) EllapsedTime: 150.3 seconds RetCode: 0 Status: OK CheckDir: nempi.Rcheck Warnings: 0