Package: nearBynding Version: 1.16.0 Command: rm -rf nearBynding.buildbin-libdir && mkdir nearBynding.buildbin-libdir && F:\biocbuild\bbs-3.20-bioc\R\bin\R.exe CMD INSTALL --build --library=nearBynding.buildbin-libdir nearBynding_1.16.0.tar.gz StartedAt: 2025-04-01 08:45:04 -0400 (Tue, 01 Apr 2025) EndedAt: 2025-04-01 08:46:06 -0400 (Tue, 01 Apr 2025) EllapsedTime: 62.2 seconds RetCode: 0 Status: OK PackageFile: nearBynding_1.16.0.zip PackageFileSize: 3.178 MiB