Package: nearBynding Version: 1.16.0 Command: /Library/Frameworks/R.framework/Resources/bin/R CMD build --keep-empty-dirs --no-resave-data nearBynding StartedAt: 2025-01-28 04:26:56 -0500 (Tue, 28 Jan 2025) EndedAt: 2025-01-28 04:28:39 -0500 (Tue, 28 Jan 2025) EllapsedTime: 103.1 seconds RetCode: 0 Status: OK PackageFile: nearBynding_1.16.0.tar.gz PackageFileSize: 3.342 MiB