Package: ndexr Version: 1.28.0 Command: /home/biocbuild/R/R/bin/R CMD check --install=check:ndexr.install-out.txt --library=/home/biocbuild/R/R/site-library --no-vignettes --timings ndexr_1.28.0.tar.gz StartedAt: 2025-02-04 09:19:16 -0000 (Tue, 04 Feb 2025) EndedAt: 2025-02-04 09:20:31 -0000 (Tue, 04 Feb 2025) EllapsedTime: 75.1 seconds RetCode: 0 Status: OK CheckDir: ndexr.Rcheck Warnings: 0