Package: ndexr Version: 1.28.0 Command: /Library/Frameworks/R.framework/Resources/bin/R CMD build --keep-empty-dirs --no-resave-data ndexr StartedAt: 2025-02-03 20:49:23 -0500 (Mon, 03 Feb 2025) EndedAt: 2025-02-03 20:49:43 -0500 (Mon, 03 Feb 2025) EllapsedTime: 20.0 seconds RetCode: 0 Status: OK PackageFile: ndexr_1.28.0.tar.gz PackageFileSize: 946.9 KiB