Package: ncdfFlow Version: 2.52.1 Command: /home/biocbuild/R/R/bin/R CMD build --keep-empty-dirs --no-resave-data ncdfFlow StartedAt: 2025-01-28 01:55:33 -0000 (Tue, 28 Jan 2025) EndedAt: 2025-01-28 01:56:05 -0000 (Tue, 28 Jan 2025) EllapsedTime: 32.0 seconds RetCode: 0 Status: OK PackageFile: ncdfFlow_2.52.1.tar.gz PackageFileSize: 194.3 KiB