Package: ncdfFlow Version: 2.52.1 Command: F:\biocbuild\bbs-3.20-bioc\R\bin\R.exe CMD INSTALL ncdfFlow StartedAt: 2025-03-31 15:37:57 -0400 (Mon, 31 Mar 2025) EndedAt: 2025-03-31 15:38:44 -0400 (Mon, 31 Mar 2025) EllapsedTime: 47.2 seconds RetCode: 0 Status: OK