Package: ncdfFlow Version: 2.52.1 Command: /Library/Frameworks/R.framework/Resources/bin/R CMD INSTALL ncdfFlow StartedAt: 2025-03-31 15:19:28 -0400 (Mon, 31 Mar 2025) EndedAt: 2025-03-31 15:20:00 -0400 (Mon, 31 Mar 2025) EllapsedTime: 31.9 seconds RetCode: 0 Status: OK