Package: ncRNAtools Version: 1.16.0 Command: /home/biocbuild/R/R/bin/R CMD INSTALL ncRNAtools StartedAt: 2025-01-30 20:16:37 -0000 (Thu, 30 Jan 2025) EndedAt: 2025-01-30 20:16:51 -0000 (Thu, 30 Jan 2025) EllapsedTime: 13.6 seconds RetCode: 0 Status: OK