Package: ncRNAtools Version: 1.16.0 Command: F:\biocbuild\bbs-3.20-bioc\R\bin\R.exe CMD INSTALL ncRNAtools StartedAt: 2025-03-31 15:44:45 -0400 (Mon, 31 Mar 2025) EndedAt: 2025-03-31 15:45:08 -0400 (Mon, 31 Mar 2025) EllapsedTime: 23.6 seconds RetCode: 0 Status: OK