Package: ncRNAtools Version: 1.16.0 Command: /home/biocbuild/bbs-3.20-bioc/R/bin/R CMD check --install=check:ncRNAtools.install-out.txt --library=/home/biocbuild/bbs-3.20-bioc/R/site-library --timings ncRNAtools_1.16.0.tar.gz StartedAt: 2025-04-01 00:25:13 -0400 (Tue, 01 Apr 2025) EndedAt: 2025-04-01 00:27:46 -0400 (Tue, 01 Apr 2025) EllapsedTime: 152.1 seconds RetCode: 0 Status: OK CheckDir: ncRNAtools.Rcheck Warnings: 0