Package: ncRNAtools Version: 1.16.0 Command: /Library/Frameworks/R.framework/Resources/bin/R CMD build --keep-empty-dirs --no-resave-data ncRNAtools StartedAt: 2025-03-31 20:33:12 -0400 (Mon, 31 Mar 2025) EndedAt: 2025-03-31 20:34:27 -0400 (Mon, 31 Mar 2025) EllapsedTime: 75.6 seconds RetCode: 0 Status: OK PackageFile: ncRNAtools_1.16.0.tar.gz PackageFileSize: 318.4 KiB