Package: ncGTW Version: 1.20.0 Command: /home/biocbuild/R/R/bin/R CMD build --keep-empty-dirs --no-resave-data ncGTW StartedAt: 2025-01-28 01:55:52 -0000 (Tue, 28 Jan 2025) EndedAt: 2025-01-28 01:59:34 -0000 (Tue, 28 Jan 2025) EllapsedTime: 222.1 seconds RetCode: 0 Status: OK PackageFile: ncGTW_1.20.0.tar.gz PackageFileSize: 1.862 MiB