Package: mzR Version: 2.40.0 Command: rm -rf mzR.buildbin-libdir && mkdir mzR.buildbin-libdir && /Users/biocbuild/BBS/utils/build-universal.sh mzR_2.40.0.tar.gz /Library/Frameworks/R.framework/Resources/bin/R mzR.buildbin-libdir StartedAt: 2025-01-28 13:53:46 -0500 (Tue, 28 Jan 2025) EndedAt: 2025-01-28 14:27:32 -0500 (Tue, 28 Jan 2025) EllapsedTime: 2026.6 seconds RetCode: 0 Status: OK PackageFile: mzR_2.40.0.tgz PackageFileSize: 4.028 MiB