Package: mzID Version: 1.44.0 Command: /home/biocbuild/R/R/bin/R CMD INSTALL mzID StartedAt: 2025-02-03 20:26:49 -0000 (Mon, 03 Feb 2025) EndedAt: 2025-02-03 20:27:01 -0000 (Mon, 03 Feb 2025) EllapsedTime: 12.0 seconds RetCode: 0 Status: OK