Package: mzID Version: 1.44.0 Command: /Library/Frameworks/R.framework/Resources/bin/R CMD INSTALL mzID StartedAt: 2025-01-30 15:12:46 -0500 (Thu, 30 Jan 2025) EndedAt: 2025-01-30 15:13:05 -0500 (Thu, 30 Jan 2025) EllapsedTime: 18.9 seconds RetCode: 0 Status: OK