Package: mzID Version: 1.44.0 Command: /Library/Frameworks/R.framework/Resources/bin/R CMD check --install=check:mzID.install-out.txt --library=/Library/Frameworks/R.framework/Resources/library --no-vignettes --timings mzID_1.44.0.tar.gz StartedAt: 2025-01-31 07:11:23 -0500 (Fri, 31 Jan 2025) EndedAt: 2025-01-31 07:12:44 -0500 (Fri, 31 Jan 2025) EllapsedTime: 80.2 seconds RetCode: 0 Status: OK CheckDir: mzID.Rcheck Warnings: 0