Package: mzID Version: 1.44.0 Command: /Library/Frameworks/R.framework/Resources/bin/R CMD build --keep-empty-dirs --no-resave-data mzID StartedAt: 2025-01-30 21:19:31 -0500 (Thu, 30 Jan 2025) EndedAt: 2025-01-30 21:20:00 -0500 (Thu, 30 Jan 2025) EllapsedTime: 29.6 seconds RetCode: 0 Status: OK PackageFile: mzID_1.44.0.tar.gz PackageFileSize: 582.1 KiB