Package: mzID Version: 1.44.0 Command: /Library/Frameworks/R.framework/Resources/bin/R CMD build --keep-empty-dirs --no-resave-data mzID StartedAt: 2024-11-19 17:50:57 -0500 (Tue, 19 Nov 2024) EndedAt: 2024-11-19 17:51:14 -0500 (Tue, 19 Nov 2024) EllapsedTime: 17.2 seconds RetCode: 0 Status: OK PackageFile: mzID_1.44.0.tar.gz PackageFileSize: 582.2 KiB