Package: myvariant Version: 1.36.0 Command: /home/biocbuild/R/R/bin/R CMD INSTALL myvariant StartedAt: 2025-01-27 21:36:41 -0000 (Mon, 27 Jan 2025) EndedAt: 2025-01-27 21:37:31 -0000 (Mon, 27 Jan 2025) EllapsedTime: 49.4 seconds RetCode: 0 Status: OK