Package: myvariant Version: 1.36.0 Command: /home/biocbuild/R/R/bin/R CMD build --keep-empty-dirs --no-resave-data myvariant StartedAt: 2025-02-04 01:20:11 -0000 (Tue, 04 Feb 2025) EndedAt: 2025-02-04 01:21:26 -0000 (Tue, 04 Feb 2025) EllapsedTime: 75.0 seconds RetCode: 0 Status: OK PackageFile: myvariant_1.36.0.tar.gz PackageFileSize: 151.8 KiB