Package: myvariant Version: 1.36.0 Command: chmod a+r myvariant -R && F:\biocbuild\bbs-3.20-bioc\R\bin\R.exe CMD build --keep-empty-dirs --no-resave-data myvariant StartedAt: 2025-01-27 20:34:35 -0500 (Mon, 27 Jan 2025) EndedAt: 2025-01-27 20:35:52 -0500 (Mon, 27 Jan 2025) EllapsedTime: 76.6 seconds RetCode: 0 Status: OK PackageFile: myvariant_1.36.0.tar.gz PackageFileSize: 159 KiB